BEGIN:VCALENDAR
VERSION:2.0
PRODID:-//Totem Colegios - ECPv6.15.16.1//NONSGML v1.0//EN
CALSCALE:GREGORIAN
METHOD:PUBLISH
X-WR-CALNAME:Totem Colegios
X-ORIGINAL-URL:https://totemcolegios.compactjr.com
X-WR-CALDESC:Eventos para Totem Colegios
REFRESH-INTERVAL;VALUE=DURATION:PT1H
X-Robots-Tag:noindex
X-PUBLISHED-TTL:PT1H
BEGIN:VTIMEZONE
TZID:UTC
BEGIN:STANDARD
TZOFFSETFROM:+0000
TZOFFSETTO:+0000
TZNAME:UTC
DTSTART:20250101T000000
END:STANDARD
END:VTIMEZONE
BEGIN:VEVENT
DTSTART;VALUE=DATE:20261105
DTEND;VALUE=DATE:20261107
DTSTAMP:20260421T061100
CREATED:20260206T013234Z
LAST-MODIFIED:20260206T013234Z
UID:4263-1793836800-1794009599@totemcolegios.compactjr.com
SUMMARY:Interséries Ensino Fundamental I
DESCRIPTION:
URL:https://totemcolegios.compactjr.com/event/interseries-ensino-fundamental-i-2/
LOCATION:Totem cachoeira do sul – RS
END:VEVENT
BEGIN:VEVENT
DTSTART;VALUE=DATE:20261107
DTEND;VALUE=DATE:20261108
DTSTAMP:20260421T061100
CREATED:20260206T013315Z
LAST-MODIFIED:20260206T013315Z
UID:4265-1794009600-1794095999@totemcolegios.compactjr.com
SUMMARY:Encontro Reflexivo Ensino Fundamental II e Médio
DESCRIPTION:
URL:https://totemcolegios.compactjr.com/event/encontro-reflexivo-ensino-fundamental-ii-e-medio/
LOCATION:Totem cachoeira do sul – RS
END:VEVENT
END:VCALENDAR