BEGIN:VCALENDAR
VERSION:2.0
PRODID:-//Totem Colegios - ECPv6.15.16.1//NONSGML v1.0//EN
CALSCALE:GREGORIAN
METHOD:PUBLISH
X-ORIGINAL-URL:https://totemcolegios.compactjr.com
X-WR-CALDESC:Eventos para Totem Colegios
REFRESH-INTERVAL;VALUE=DURATION:PT1H
X-Robots-Tag:noindex
X-PUBLISHED-TTL:PT1H
BEGIN:VTIMEZONE
TZID:UTC
BEGIN:STANDARD
TZOFFSETFROM:+0000
TZOFFSETTO:+0000
TZNAME:UTC
DTSTART:20250101T000000
END:STANDARD
END:VTIMEZONE
BEGIN:VEVENT
DTSTART;VALUE=DATE:20261215
DTEND;VALUE=DATE:20261216
DTSTAMP:20260423T102903
CREATED:20260206T014311Z
LAST-MODIFIED:20260206T014311Z
UID:4283-1797292800-1797379199@totemcolegios.compactjr.com
SUMMARY:Término da Educação Infantil e Formatura do Nível II da Educação Infantil
DESCRIPTION:
URL:https://totemcolegios.compactjr.com/event/termino-da-educacao-infantil-e-formatura-do-nivel-ii-da-educacao-infantil/
LOCATION:Totem cachoeira do sul – RS
END:VEVENT
BEGIN:VEVENT
DTSTART;VALUE=DATE:20261217
DTEND;VALUE=DATE:20261218
DTSTAMP:20260423T102903
CREATED:20260206T014442Z
LAST-MODIFIED:20260206T014442Z
UID:4287-1797465600-1797551999@totemcolegios.compactjr.com
SUMMARY:Término do ano Letivo
DESCRIPTION:
URL:https://totemcolegios.compactjr.com/event/termino-do-ano-letivo/
LOCATION:Totem cachoeira do sul – RS
END:VEVENT
END:VCALENDAR