BEGIN:VCALENDAR
VERSION:2.0
PRODID:-//Totem Colegios - ECPv6.15.16.1//NONSGML v1.0//EN
CALSCALE:GREGORIAN
METHOD:PUBLISH
X-ORIGINAL-URL:https://totemcolegios.compactjr.com
X-WR-CALDESC:Eventos para Totem Colegios
REFRESH-INTERVAL;VALUE=DURATION:PT1H
X-Robots-Tag:noindex
X-PUBLISHED-TTL:PT1H
BEGIN:VTIMEZONE
TZID:UTC
BEGIN:STANDARD
TZOFFSETFROM:+0000
TZOFFSETTO:+0000
TZNAME:UTC
DTSTART:20250101T000000
END:STANDARD
END:VTIMEZONE
BEGIN:VEVENT
DTSTART;VALUE=DATE:20260815
DTEND;VALUE=DATE:20260830
DTSTAMP:20260421T043734
CREATED:20260206T012240Z
LAST-MODIFIED:20260206T012240Z
UID:4245-1786752000-1788047999@totemcolegios.compactjr.com
SUMMARY:Encontros Reflexivos de Agosto
DESCRIPTION:15 – Encontro Reflexivo Ensino Fund. I;\n29 – Encontro Reflexivo FII e Médio;
URL:https://totemcolegios.compactjr.com/event/encontros-reflexivos-de-agosto/
LOCATION:Totem cachoeira do sul – RS
END:VEVENT
BEGIN:VEVENT
DTSTART;VALUE=DATE:20260819
DTEND;VALUE=DATE:20260820
DTSTAMP:20260421T043734
CREATED:20260206T012404Z
LAST-MODIFIED:20260206T012404Z
UID:4247-1787097600-1787183999@totemcolegios.compactjr.com
SUMMARY:Lançamento do Projeto “Partiu Primeiro Ano”
DESCRIPTION:
URL:https://totemcolegios.compactjr.com/event/lancamento-do-projeto-partiu-primeiro-ano/
LOCATION:Totem cachoeira do sul – RS
END:VEVENT
BEGIN:VEVENT
DTSTART;VALUE=DATE:20260904
DTEND;VALUE=DATE:20260905
DTSTAMP:20260421T043734
CREATED:20260206T012547Z
LAST-MODIFIED:20260206T012547Z
UID:4249-1788480000-1788566399@totemcolegios.compactjr.com
SUMMARY:Encerramento do segundo trimestre
DESCRIPTION:
URL:https://totemcolegios.compactjr.com/event/encerramento-do-segundo-trimestre/
LOCATION:Totem cachoeira do sul – RS
END:VEVENT
BEGIN:VEVENT
DTSTART;VALUE=DATE:20260912
DTEND;VALUE=DATE:20260913
DTSTAMP:20260421T043734
CREATED:20260206T012707Z
LAST-MODIFIED:20260206T012707Z
UID:4251-1789171200-1789257599@totemcolegios.compactjr.com
SUMMARY:Ronda Crioula
DESCRIPTION:
URL:https://totemcolegios.compactjr.com/event/ronda-crioula/
LOCATION:Totem cachoeira do sul – RS
END:VEVENT
BEGIN:VEVENT
DTSTART;VALUE=DATE:20260922
DTEND;VALUE=DATE:20260925
DTSTAMP:20260421T043734
CREATED:20260206T012812Z
LAST-MODIFIED:20260206T012812Z
UID:4253-1790035200-1790294399@totemcolegios.compactjr.com
SUMMARY:Feira do Livro
DESCRIPTION:
URL:https://totemcolegios.compactjr.com/event/feira-do-livro/
LOCATION:Totem cachoeira do sul – RS
END:VEVENT
BEGIN:VEVENT
DTSTART;VALUE=DATE:20260925
DTEND;VALUE=DATE:20260926
DTSTAMP:20260421T043734
CREATED:20260206T012902Z
LAST-MODIFIED:20260206T012902Z
UID:4255-1790294400-1790380799@totemcolegios.compactjr.com
SUMMARY:Aniversário do Colégio Totem
DESCRIPTION:
URL:https://totemcolegios.compactjr.com/event/aniversario-do-colegio-totem/
LOCATION:Totem cachoeira do sul – RS
END:VEVENT
BEGIN:VEVENT
DTSTART;VALUE=DATE:20261001
DTEND;VALUE=DATE:20261002
DTSTAMP:20260421T043734
CREATED:20260206T012939Z
LAST-MODIFIED:20260206T012939Z
UID:4257-1790812800-1790899199@totemcolegios.compactjr.com
SUMMARY:Mostra Científica
DESCRIPTION:
URL:https://totemcolegios.compactjr.com/event/mostra-cientifica/
LOCATION:Totem cachoeira do sul – RS
END:VEVENT
BEGIN:VEVENT
DTSTART;VALUE=DATE:20261003
DTEND;VALUE=DATE:20261004
DTSTAMP:20260421T043734
CREATED:20260206T013018Z
LAST-MODIFIED:20260206T013018Z
UID:4259-1790985600-1791071999@totemcolegios.compactjr.com
SUMMARY:Entrega dos resultados da Educação Infantil e Ensino Fundamental I
DESCRIPTION:
URL:https://totemcolegios.compactjr.com/event/entrega-dos-resultados-da-educacao-infantil-e-ensino-fundamental-i/
LOCATION:Totem cachoeira do sul – RS
END:VEVENT
BEGIN:VEVENT
DTSTART;VALUE=DATE:20261005
DTEND;VALUE=DATE:20261010
DTSTAMP:20260421T043734
CREATED:20260206T013121Z
LAST-MODIFIED:20260206T013121Z
UID:4261-1791158400-1791590399@totemcolegios.compactjr.com
SUMMARY:Homenagem às Crianças
DESCRIPTION:
URL:https://totemcolegios.compactjr.com/event/homenagem-as-criancas/
LOCATION:Totem cachoeira do sul – RS
END:VEVENT
BEGIN:VEVENT
DTSTART;VALUE=DATE:20261105
DTEND;VALUE=DATE:20261107
DTSTAMP:20260421T043734
CREATED:20260206T013234Z
LAST-MODIFIED:20260206T013234Z
UID:4263-1793836800-1794009599@totemcolegios.compactjr.com
SUMMARY:Interséries Ensino Fundamental I
DESCRIPTION:
URL:https://totemcolegios.compactjr.com/event/interseries-ensino-fundamental-i-2/
LOCATION:Totem cachoeira do sul – RS
END:VEVENT
BEGIN:VEVENT
DTSTART;VALUE=DATE:20261107
DTEND;VALUE=DATE:20261108
DTSTAMP:20260421T043734
CREATED:20260206T013315Z
LAST-MODIFIED:20260206T013315Z
UID:4265-1794009600-1794095999@totemcolegios.compactjr.com
SUMMARY:Encontro Reflexivo Ensino Fundamental II e Médio
DESCRIPTION:
URL:https://totemcolegios.compactjr.com/event/encontro-reflexivo-ensino-fundamental-ii-e-medio/
LOCATION:Totem cachoeira do sul – RS
END:VEVENT
BEGIN:VEVENT
DTSTART;VALUE=DATE:20261201
DTEND;VALUE=DATE:20261202
DTSTAMP:20260421T043734
CREATED:20260206T013539Z
LAST-MODIFIED:20260206T013539Z
UID:4269-1796083200-1796169599@totemcolegios.compactjr.com
SUMMARY:Recital de Poesias
DESCRIPTION:
URL:https://totemcolegios.compactjr.com/event/recital-de-poesias/
LOCATION:Totem cachoeira do sul – RS
END:VEVENT
BEGIN:VEVENT
DTSTART;VALUE=DATE:20261202
DTEND;VALUE=DATE:20261215
DTSTAMP:20260421T043734
CREATED:20260206T013712Z
LAST-MODIFIED:20260206T013757Z
UID:4271-1796169600-1797292799@totemcolegios.compactjr.com
SUMMARY:Projetos de Dezembro
DESCRIPTION:02 – Projeto “Pequenos Grandes Escritores”; \n03 – Projeto “Revista Científica”; \n04 – Projeto “Totem\, um reino encantado”; \n14 – Projeto “Dando Asas à Imaginação”;
URL:https://totemcolegios.compactjr.com/event/projetos-de-dezembro/
LOCATION:Totem cachoeira do sul – RS
END:VEVENT
BEGIN:VEVENT
DTSTART;VALUE=DATE:20261209
DTEND;VALUE=DATE:20261210
DTSTAMP:20260421T043734
CREATED:20260206T013908Z
LAST-MODIFIED:20260206T013908Z
UID:4274-1796774400-1796860799@totemcolegios.compactjr.com
SUMMARY:Momento de encerramento do 5º Ano Fund. I
DESCRIPTION:
URL:https://totemcolegios.compactjr.com/event/momento-de-encerramento-do-5o-ano-fund-i/
LOCATION:Totem cachoeira do sul – RS
END:VEVENT
BEGIN:VEVENT
DTSTART;VALUE=DATE:20261210
DTEND;VALUE=DATE:20261211
DTSTAMP:20260421T043734
CREATED:20260206T014126Z
LAST-MODIFIED:20260206T014126Z
UID:4279-1796860800-1796947199@totemcolegios.compactjr.com
SUMMARY:Lançamento do “Livro de Receitas” do Maternal II
DESCRIPTION:
URL:https://totemcolegios.compactjr.com/event/lancamento-do-livro-de-receitas-do-maternal-ii/
LOCATION:Totem cachoeira do sul – RS
END:VEVENT
BEGIN:VEVENT
DTSTART;VALUE=DATE:20261211
DTEND;VALUE=DATE:20261212
DTSTAMP:20260421T043734
CREATED:20260206T014028Z
LAST-MODIFIED:20260206T014039Z
UID:4276-1796947200-1797033599@totemcolegios.compactjr.com
SUMMARY:Último dia letivo para Fundamental I
DESCRIPTION:11 à 18/12 – Entrega dos resultados do Ensino Fundamental I;
URL:https://totemcolegios.compactjr.com/event/ultimo-dia-letivo-para-fundamental-i/
LOCATION:Totem cachoeira do sul – RS
END:VEVENT
BEGIN:VEVENT
DTSTART;VALUE=DATE:20261211
DTEND;VALUE=DATE:20261212
DTSTAMP:20260421T043734
CREATED:20260206T014223Z
LAST-MODIFIED:20260206T014223Z
UID:4281-1796947200-1797033599@totemcolegios.compactjr.com
SUMMARY:Formatura da turma do 3° ano Médio
DESCRIPTION:
URL:https://totemcolegios.compactjr.com/event/formatura-da-turma-do-3-ano-medio/
LOCATION:Totem cachoeira do sul – RS
END:VEVENT
BEGIN:VEVENT
DTSTART;VALUE=DATE:20261215
DTEND;VALUE=DATE:20261216
DTSTAMP:20260421T043734
CREATED:20260206T014311Z
LAST-MODIFIED:20260206T014311Z
UID:4283-1797292800-1797379199@totemcolegios.compactjr.com
SUMMARY:Término da Educação Infantil e Formatura do Nível II da Educação Infantil
DESCRIPTION:
URL:https://totemcolegios.compactjr.com/event/termino-da-educacao-infantil-e-formatura-do-nivel-ii-da-educacao-infantil/
LOCATION:Totem cachoeira do sul – RS
END:VEVENT
BEGIN:VEVENT
DTSTART;VALUE=DATE:20261217
DTEND;VALUE=DATE:20261218
DTSTAMP:20260421T043734
CREATED:20260206T014442Z
LAST-MODIFIED:20260206T014442Z
UID:4287-1797465600-1797551999@totemcolegios.compactjr.com
SUMMARY:Término do ano Letivo
DESCRIPTION:
URL:https://totemcolegios.compactjr.com/event/termino-do-ano-letivo/
LOCATION:Totem cachoeira do sul – RS
END:VEVENT
END:VCALENDAR