BEGIN:VCALENDAR
VERSION:2.0
PRODID:-//Totem Colegios - ECPv6.15.16.1//NONSGML v1.0//EN
CALSCALE:GREGORIAN
METHOD:PUBLISH
X-WR-CALNAME:Totem Colegios
X-ORIGINAL-URL:https://totemcolegios.compactjr.com
X-WR-CALDESC:Eventos para Totem Colegios
REFRESH-INTERVAL;VALUE=DURATION:PT1H
X-Robots-Tag:noindex
X-PUBLISHED-TTL:PT1H
BEGIN:VTIMEZONE
TZID:UTC
BEGIN:STANDARD
TZOFFSETFROM:+0000
TZOFFSETTO:+0000
TZNAME:UTC
DTSTART:20250101T000000
END:STANDARD
END:VTIMEZONE
BEGIN:VEVENT
DTSTART;VALUE=DATE:20260321
DTEND;VALUE=DATE:20260322
DTSTAMP:20260420T172436
CREATED:20260321T222427Z
LAST-MODIFIED:20260206T201737Z
UID:4205-1774051200-1774137599@totemcolegios.compactjr.com
SUMMARY:Piquenique da família Totem
DESCRIPTION:
URL:https://totemcolegios.compactjr.com/event/piquenique-da-familia-totem/
LOCATION:Totem cachoeira do sul – RS
END:VEVENT
BEGIN:VEVENT
DTSTART;VALUE=DATE:20260307
DTEND;VALUE=DATE:20260308
DTSTAMP:20260420T172436
CREATED:20260307T222355Z
LAST-MODIFIED:20260206T201714Z
UID:4203-1772841600-1772927999@totemcolegios.compactjr.com
SUMMARY:Interséries Ensino Fundamental I
DESCRIPTION:
URL:https://totemcolegios.compactjr.com/event/interseries-ensino-fundamental-i/
LOCATION:Totem cachoeira do sul – RS
END:VEVENT
BEGIN:VEVENT
DTSTART;VALUE=DATE:20260305
DTEND;VALUE=DATE:20260309
DTSTAMP:20260420T172436
CREATED:20260305T224751Z
LAST-MODIFIED:20260206T201650Z
UID:4212-1772668800-1773014399@totemcolegios.compactjr.com
SUMMARY:Apresentações em Homenagem às Mães
DESCRIPTION:05 – Apresentação em Homenagem às Mães 1º e 2º Anos;\n06 – Apresentação em Homenagem às Mães 3º\, 4º e 5º Anos;\n07 – Apresentação em Homenagem às Mães Educação Infantil;\n08 – Apresentação em Homenagem às Mães Berçários e Maternais;
URL:https://totemcolegios.compactjr.com/event/apresentacoes-em-homenagem-as-maes/
LOCATION:Totem cachoeira do sul – RS
END:VEVENT
BEGIN:VEVENT
DTSTART;VALUE=DATE:20260219
DTEND;VALUE=DATE:20260221
DTSTAMP:20260420T172436
CREATED:20260219T011138Z
LAST-MODIFIED:20260206T201306Z
UID:3987-1771459200-1771631999@totemcolegios.compactjr.com
SUMMARY:Inicio das aulas
DESCRIPTION:Início das aulas para o 6º e 7º ano será um dia depois\, dia 20.
URL:https://totemcolegios.compactjr.com/event/inicio-das-aulas/
LOCATION:Totem cachoeira do sul – RS
END:VEVENT
BEGIN:VEVENT
DTSTART;VALUE=DATE:20260216
DTEND;VALUE=DATE:20260217
DTSTAMP:20260420T172436
CREATED:20260216T013406Z
LAST-MODIFIED:20260206T201245Z
UID:4267-1771200000-1771286399@totemcolegios.compactjr.com
SUMMARY:Projeto “Álbum de Figurinhas Científico” do Nível II
DESCRIPTION:
URL:https://totemcolegios.compactjr.com/event/projeto-album-de-figurinhas-cientifico-do-nivel-ii/
LOCATION:Totem cachoeira do sul – RS
END:VEVENT
BEGIN:VEVENT
DTSTART;VALUE=DATE:20260212
DTEND;VALUE=DATE:20260213
DTSTAMP:20260420T172436
CREATED:20260205T221942Z
LAST-MODIFIED:20260206T202139Z
UID:4199-1770854400-1770940799@totemcolegios.compactjr.com
SUMMARY:Reunião de formação
DESCRIPTION:12 – Reunião de formação em SM – Rede Totem
URL:https://totemcolegios.compactjr.com/event/reuniao-de-formacao/
END:VEVENT
BEGIN:VEVENT
DTSTART;VALUE=DATE:20260205
DTEND;VALUE=DATE:20260214
DTSTAMP:20260420T172436
CREATED:20260205T221226Z
LAST-MODIFIED:20260206T202033Z
UID:4195-1770249600-1771027199@totemcolegios.compactjr.com
SUMMARY:Jornada Pedagógica
DESCRIPTION:05 a 13 – Jornada Pedagógica para o FII e Médio;\n10 a 13 – Jornada Pedagógica para o Ed. Infantil e FI;
URL:https://totemcolegios.compactjr.com/event/jornada-pedagogica/
END:VEVENT
BEGIN:VEVENT
DTSTART;VALUE=DATE:20260204
DTEND;VALUE=DATE:20260227
DTSTAMP:20260420T172436
CREATED:20260204T220847Z
LAST-MODIFIED:20260206T201406Z
UID:4193-1770163200-1772150399@totemcolegios.compactjr.com
SUMMARY:Reuniões e Entrevistas com os pais
DESCRIPTION:04 a 09 – Entrevistas com as famílias da Educação Infantil e Ensino Fundamental I; \n09 – Reunião com os Pais das turmas dos 1º Anos do Ensino Fundamental I; \n10 – Reunião com os Pais das turmas dos 2º Anos do Ensino Fundamental I; \n11 – Reunião com os Pais das turmas de Nível II Educação Infantil e 5º Ano do Ensino Fundamental I; \n12 – Reunião com os Pais das turmas do Nível I Educação Infantil e 4º Anos do Ensino Fundamental I; \n24 – Reunião com os Pais das turmas do Maternal II Educação Infantil e 3º Anos do Ensino Fundamental I; \n26 – Reunião com os Pais das turmas dos Berçários e Maternal I – Educação Infantil;
URL:https://totemcolegios.compactjr.com/event/reuniao-com-os-pais-2/
LOCATION:Totem cachoeira do sul – RS
END:VEVENT
END:VCALENDAR