BEGIN:VCALENDAR
VERSION:2.0
PRODID:-//Totem Colegios - ECPv6.15.16.1//NONSGML v1.0//EN
CALSCALE:GREGORIAN
METHOD:PUBLISH
X-ORIGINAL-URL:https://totemcolegios.compactjr.com
X-WR-CALDESC:Eventos para Totem Colegios
REFRESH-INTERVAL;VALUE=DURATION:PT1H
X-Robots-Tag:noindex
X-PUBLISHED-TTL:PT1H
BEGIN:VTIMEZONE
TZID:UTC
BEGIN:STANDARD
TZOFFSETFROM:+0000
TZOFFSETTO:+0000
TZNAME:UTC
DTSTART:20250101T000000
END:STANDARD
END:VTIMEZONE
BEGIN:VEVENT
DTSTART;VALUE=DATE:20261003
DTEND;VALUE=DATE:20261004
DTSTAMP:20260421T043001
CREATED:20260206T013018Z
LAST-MODIFIED:20260206T013018Z
UID:4259-1790985600-1791071999@totemcolegios.compactjr.com
SUMMARY:Entrega dos resultados da Educação Infantil e Ensino Fundamental I
DESCRIPTION:
URL:https://totemcolegios.compactjr.com/event/entrega-dos-resultados-da-educacao-infantil-e-ensino-fundamental-i/
LOCATION:Totem cachoeira do sul – RS
END:VEVENT
END:VCALENDAR