BEGIN:VCALENDAR
VERSION:2.0
PRODID:-//Totem Colegios - ECPv6.15.16.1//NONSGML v1.0//EN
CALSCALE:GREGORIAN
METHOD:PUBLISH
X-ORIGINAL-URL:https://totemcolegios.compactjr.com
X-WR-CALDESC:Eventos para Totem Colegios
REFRESH-INTERVAL;VALUE=DURATION:PT1H
X-Robots-Tag:noindex
X-PUBLISHED-TTL:PT1H
BEGIN:VTIMEZONE
TZID:UTC
BEGIN:STANDARD
TZOFFSETFROM:+0000
TZOFFSETTO:+0000
TZNAME:UTC
DTSTART:20250101T000000
END:STANDARD
END:VTIMEZONE
BEGIN:VEVENT
DTSTART;VALUE=DATE:20260811
DTEND;VALUE=DATE:20260815
DTSTAMP:20260421T042936
CREATED:20260206T012032Z
LAST-MODIFIED:20260206T012032Z
UID:4243-1786406400-1786751999@totemcolegios.compactjr.com
SUMMARY:Apresentação em Homenagem aos Pais
DESCRIPTION:11 – Apresentação em Homenagem aos Pais Berçários e Maternais;\n12 – Apresentação em Homenagem aos Pais 1º e 2º Anos;\n13 – Apresentação em Homenagem aos Pais 3º\, 4º e 5º Anos;\n14 – Apresentação em Homenagem aos Pais Educação Infantil.
URL:https://totemcolegios.compactjr.com/event/apresentacao-em-homenagem-aos-pais/
LOCATION:Totem cachoeira do sul – RS
END:VEVENT
END:VCALENDAR