BEGIN:VCALENDAR
VERSION:2.0
PRODID:-//Totem Colegios - ECPv6.15.16.1//NONSGML v1.0//EN
CALSCALE:GREGORIAN
METHOD:PUBLISH
X-ORIGINAL-URL:https://totemcolegios.compactjr.com
X-WR-CALDESC:Eventos para Totem Colegios
REFRESH-INTERVAL;VALUE=DURATION:PT1H
X-Robots-Tag:noindex
X-PUBLISHED-TTL:PT1H
BEGIN:VTIMEZONE
TZID:UTC
BEGIN:STANDARD
TZOFFSETFROM:+0000
TZOFFSETTO:+0000
TZNAME:UTC
DTSTART:20250101T000000
END:STANDARD
END:VTIMEZONE
BEGIN:VEVENT
DTSTART;VALUE=DATE:20260803
DTEND;VALUE=DATE:20260804
DTSTAMP:20260421T042937
CREATED:20260206T011847Z
LAST-MODIFIED:20260206T011847Z
UID:4241-1785715200-1785801599@totemcolegios.compactjr.com
SUMMARY:Início do Segundo Semestre
DESCRIPTION:
URL:https://totemcolegios.compactjr.com/event/inicio-do-segundo-semestre/
LOCATION:Totem cachoeira do sul – RS
END:VEVENT
END:VCALENDAR