BEGIN:VCALENDAR
VERSION:2.0
PRODID:-//Totem Colegios - ECPv6.15.16.1//NONSGML v1.0//EN
CALSCALE:GREGORIAN
METHOD:PUBLISH
X-ORIGINAL-URL:https://totemcolegios.compactjr.com
X-WR-CALDESC:Eventos para Totem Colegios
REFRESH-INTERVAL;VALUE=DURATION:PT1H
X-Robots-Tag:noindex
X-PUBLISHED-TTL:PT1H
BEGIN:VTIMEZONE
TZID:UTC
BEGIN:STANDARD
TZOFFSETFROM:+0000
TZOFFSETTO:+0000
TZNAME:UTC
DTSTART:20250101T000000
END:STANDARD
END:VTIMEZONE
BEGIN:VEVENT
DTSTART;VALUE=DATE:20260704
DTEND;VALUE=DATE:20260705
DTSTAMP:20260420T230042
CREATED:20260206T011555Z
LAST-MODIFIED:20260206T011555Z
UID:4233-1783123200-1783209599@totemcolegios.compactjr.com
SUMMARY:EnCototem
DESCRIPTION:sábado letivo FI\, FII e Médio.
URL:https://totemcolegios.compactjr.com/event/encototem/
LOCATION:Totem cachoeira do sul – RS
END:VEVENT
END:VCALENDAR